BEGIN:VCALENDAR
VERSION:2.0
PRODID:-//TRUSTS - ECPv6.15.14//NONSGML v1.0//EN
CALSCALE:GREGORIAN
METHOD:PUBLISH
X-ORIGINAL-URL:https://www.trusts-data.eu
X-WR-CALDESC:Events for TRUSTS
REFRESH-INTERVAL;VALUE=DURATION:PT1H
X-Robots-Tag:noindex
X-PUBLISHED-TTL:PT1H
BEGIN:VTIMEZONE
TZID:Europe/Vienna
BEGIN:DAYLIGHT
TZOFFSETFROM:+0100
TZOFFSETTO:+0200
TZNAME:CEST
DTSTART:20200329T010000
END:DAYLIGHT
BEGIN:STANDARD
TZOFFSETFROM:+0200
TZOFFSETTO:+0100
TZNAME:CET
DTSTART:20201025T010000
END:STANDARD
BEGIN:DAYLIGHT
TZOFFSETFROM:+0100
TZOFFSETTO:+0200
TZNAME:CEST
DTSTART:20210328T010000
END:DAYLIGHT
BEGIN:STANDARD
TZOFFSETFROM:+0200
TZOFFSETTO:+0100
TZNAME:CET
DTSTART:20211031T010000
END:STANDARD
BEGIN:DAYLIGHT
TZOFFSETFROM:+0100
TZOFFSETTO:+0200
TZNAME:CEST
DTSTART:20220327T010000
END:DAYLIGHT
BEGIN:STANDARD
TZOFFSETFROM:+0200
TZOFFSETTO:+0100
TZNAME:CET
DTSTART:20221030T010000
END:STANDARD
END:VTIMEZONE
BEGIN:VEVENT
DTSTART;VALUE=DATE:20211123
DTEND;VALUE=DATE:20211126
DTSTAMP:20260422T173719
CREATED:20210427T070233Z
LAST-MODIFIED:20210427T070233Z
UID:2002-1637625600-1637884799@www.trusts-data.eu
SUMMARY:EU Open Data Days 2021
DESCRIPTION:Take part in EU Open Data Days\, an event focused on the benefits of open data and its reuse in the EU!\nThe Publications Office of the European Union is organising the first EU Open Data Days. This unique online event will serve as a knowledge hub\, bringing the benefits of open data and its reuse to the EU public sector\, and through it to people and businesses. Get inspired and discover the latest trends and most innovative solutions! \n \n© European Union\, 2019-2021 \n\nData is a key asset for digital transformation. It is a building material for research and innovation\,  personalised products and services\, powerful new technologies and better decision-making. These translate into solutions to societal challenges that can improve and even save people’s lives\, as the current pandemic demonstrates. Open data is also freely available to generate value through reuse. \nSpeak at EU DataViz 2021\nThe EU Open Data Days organising team are looking for speakers to help shape a highly relevant conference programme. Are you an expert on open data and/or data visualisation? We encourage you to share your ideas\, successful projects and best practices\, which can be actionable in the setting of the EU public sector. \nWe welcome proposals from all over the world\, and from all sectors: academia\, private entities\, journalists\, data visualisation freelancers\, EU institutions\, national public administrations and more. For more information\, visit the EU DataViz website. \nSubmit your proposal for a conference contribution by 21 May 2021 here. \nCompete in EU Datathon 2021\nPropose your idea for an application built on open data and compete for your share of the prize fund of EUR 99 000. Demonstrate the value of open data and address a challenge related to the European Commission’ priorities. \nWe welcome ideas from data enthusiasts from all around the world. Check the rules of the competition and to participate\, submit your proposal for an application by 21 May 2021 here. \nThe EU Open Data Days have a particular focus on the EU’s public sector and data enthusiasts. They are also relevant for policymakers\, researchers\, academia\, private entities\, students and citizens interested in the power of open data as a factor determining our future. 
URL:https://www.trusts-data.eu/event/eu-open-data-days-2021/
LOCATION:online
CATEGORIES:Conference
END:VEVENT
BEGIN:VEVENT
DTSTART;VALUE=DATE:20211129
DTEND;VALUE=DATE:20211204
DTSTAMP:20260422T173719
CREATED:20210719T103539Z
LAST-MODIFIED:20210719T103539Z
UID:2270-1638144000-1638575999@www.trusts-data.eu
SUMMARY:European Big Data Value Forum 2021
DESCRIPTION:European Big Data Value Forum (EBDVF) 2021 will take place from the 29th of November to the 3rd of December. This year as a “hybrid” event. EBDVF 2021 is an associated event of Slovenian EU Presidency. \nEBDVF 2021 theme is “Digital Transformation powered by Data and AI”. The programme is structured into five tracks discussing the topics of adoption of industrial and trustworthy AI\, Data Spaces\, Data-Driven business models\, standardization\, societal impacts and many others. Join the event to get the best insight to European Big Data and AI! \nThe physical part of the EBDVF 2021 will be hosted in Ljubljana. The local collaborators of EBDVF 2021 are DIH Slovenia\, ICT Association of Slovenia (Chamber of Commerce and Industry Slovenia)\, Jožef Stefan Institute (JSI) and the University of Ljubljana. The central day in the Slovenian capital will kick-start the event by inviting high-level political and industry keynotes to share their views on data and data-driven AI-related policy developments. \nAll the EBDVF 2021 sessions will be streamed online. The event will merge the online portions to the sessions held in Ljubljana\, bringing both\, live and physical venues\, to the disposal of the event attendees\, speakers and sponsors. \nThe registration to the EBDVF 2021 will be open soon. If you are interested in collaborating with or hosting a session in EBDVF 2021\, please send a message at info@core.bdva.eu. For more information and updates\, visit the official website of the European Big Data Value Forum.
URL:https://www.trusts-data.eu/event/european-big-data-value-forum-2021/
CATEGORIES:Conference
END:VEVENT
END:VCALENDAR