BEGIN:VCALENDAR
VERSION:2.0
PRODID:-//TRUSTS - ECPv6.15.14//NONSGML v1.0//EN
CALSCALE:GREGORIAN
METHOD:PUBLISH
X-WR-CALNAME:TRUSTS
X-ORIGINAL-URL:https://www.trusts-data.eu
X-WR-CALDESC:Events for TRUSTS
REFRESH-INTERVAL;VALUE=DURATION:PT1H
X-Robots-Tag:noindex
X-PUBLISHED-TTL:PT1H
BEGIN:VTIMEZONE
TZID:Europe/Vienna
BEGIN:DAYLIGHT
TZOFFSETFROM:+0100
TZOFFSETTO:+0200
TZNAME:CEST
DTSTART:20200329T010000
END:DAYLIGHT
BEGIN:STANDARD
TZOFFSETFROM:+0200
TZOFFSETTO:+0100
TZNAME:CET
DTSTART:20201025T010000
END:STANDARD
BEGIN:DAYLIGHT
TZOFFSETFROM:+0100
TZOFFSETTO:+0200
TZNAME:CEST
DTSTART:20210328T010000
END:DAYLIGHT
BEGIN:STANDARD
TZOFFSETFROM:+0200
TZOFFSETTO:+0100
TZNAME:CET
DTSTART:20211031T010000
END:STANDARD
BEGIN:DAYLIGHT
TZOFFSETFROM:+0100
TZOFFSETTO:+0200
TZNAME:CEST
DTSTART:20220327T010000
END:DAYLIGHT
BEGIN:STANDARD
TZOFFSETFROM:+0200
TZOFFSETTO:+0100
TZNAME:CET
DTSTART:20221030T010000
END:STANDARD
END:VTIMEZONE
BEGIN:VEVENT
DTSTART;VALUE=DATE:20210830
DTEND;VALUE=DATE:20210904
DTSTAMP:20260422T135732
CREATED:20210630T083241Z
LAST-MODIFIED:20210630T083415Z
UID:2198-1630281600-1630713599@www.trusts-data.eu
SUMMARY:IoT Week 2021
DESCRIPTION:Next-Generation IoT for a sustainable future\nThe rising awareness of climate change has caused the popularization of sustainability and the realization that we need to do things not only differently\, but better. As focus shifts to finding solutions to climate issues\, technological advancements and innovation present a promising way forward. The Internet of Things\, for example\, which Boston Consulting Group estimates will boom into an $267 billion dollar industry by 2021\, promises to facilitate great leaps in our efforts to transform our places and spaces\, from homes and offices to entire cities\, into sustainable environments. If IoT technologies build on not only established technology\, but also new capabilities in the backend\, such as artificial intelligence\, deep semantic interoperability and novel contractual arrangements like Blockchains\, they will undoubtedly bring fundamental change to all sectors of activity\, improving the way we live and work. \nIn other words\, IoT is likely to be an essential element of the Next Generation Internet\, setting the groundwork for systems and devices of the future. \nEach year\, numerous thought leaders from the worlds of research\, industry\, business\, tech and science shed light on the future of technology and its impact on business and life. \nMore information\, program\, speaker & registration \n 
URL:https://www.trusts-data.eu/event/iot-week-2021/
LOCATION:online
CATEGORIES:Conference
END:VEVENT
BEGIN:VEVENT
DTSTART;VALUE=DATE:20210906
DTEND;VALUE=DATE:20210910
DTSTAMP:20260422T135732
CREATED:20210719T105551Z
LAST-MODIFIED:20210719T105551Z
UID:2276-1630886400-1631231999@www.trusts-data.eu
SUMMARY:SEMANTiCS Conference 2021
DESCRIPTION:SEMANTiCS is an established knowledge hub where technology professionals\, industry experts\, researchers and decision makers can learn about new technologies\, innovations and enterprise implementations in the fields of Linked Data and Semantic AI. Since 2005\, the conference series has focused on semantic technologies\, which are today together with other methodologies such as NLP and machine learning the core of intelligent systems. The conference highlights the benefits of standards-based approaches. \nSEMANTiCS is the only European conference at the intersection of research and industry. Dive deeper into the world of semantic technologies\, machine learning and data science. Explore more advanced topics in various talks and workshop sessions. The conference agenda pays tribute to a highly diverse\, but complementary audience. Discover newest research insights\, explore enterprise solutions and learn implementation stories of leading companies. \nRegistration & Speakers \n 
URL:https://www.trusts-data.eu/event/semantics-conference-2021/
LOCATION:Amsterdam / hybrid
CATEGORIES:Conference
END:VEVENT
BEGIN:VEVENT
DTSTART;VALUE=DATE:20210923
DTEND;VALUE=DATE:20210924
DTSTAMP:20260422T135732
CREATED:20210802T110614Z
LAST-MODIFIED:20210802T110614Z
UID:2311-1632355200-1632441599@www.trusts-data.eu
SUMMARY:Conference on Data Sharing & Governance for Energy Applications
DESCRIPTION:Co-organized by the H2020 projects PLATOON and OPEN DEI\, the conference on “Data sharing and governance for Energy applications” will be held in Bilbao\, Spain on September 23\, 2021. \nThe intensive current activity at the European level around digital sovereignty and data governance as a requirement for a secure exchange of industrial data among multiple players\, with ongoing initiatives such as GAIA-X and IDSA\, sets a suitable context to learn from the experts on how to apply these frameworks and architectures to different energy use cases. \nThe conference has been conceived as an opportunity to facilitate interaction\, mutual knowledge\, and exchange of best practices and lessons learned among a number of H2020 projects specifically focused in providing added value to energy stakeholders through efficient data sharing\, processing\, and analysis. \nFind presentations on data sharing and data spaces in the energy domain in the agenda. \nRegister here for the conference: www.clusterenergia.com
URL:https://www.trusts-data.eu/event/conference-on-data-sharing-governance-for-energy-applications/
LOCATION:Bilbao\, Spain
CATEGORIES:Conference
END:VEVENT
END:VCALENDAR